BEGIN:VCALENDAR
VERSION:2.0
PRODID:-//Bureau of Drug Abuse Cleveland Treatment Center - ECPv5.9.1//NONSGML v1.0//EN
CALSCALE:GREGORIAN
METHOD:PUBLISH
X-WR-CALNAME:Bureau of Drug Abuse Cleveland Treatment Center
X-ORIGINAL-URL:https://bureauofdrugabuseclevelandtreatmentcenter.org
X-WR-CALDESC:Events for Bureau of Drug Abuse Cleveland Treatment Center
BEGIN:VTIMEZONE
TZID:UTC
BEGIN:STANDARD
TZOFFSETFROM:+0000
TZOFFSETTO:+0000
TZNAME:UTC
DTSTART:20220101T000000
END:STANDARD
END:VTIMEZONE
BEGIN:VEVENT
DTSTART;TZID=UTC:20220427T183000
DTEND;TZID=UTC:20220427T193000
DTSTAMP:20260419T154052
CREATED:20220331T163131Z
LAST-MODIFIED:20220331T164726Z
UID:159-1651084200-1651087800@bureauofdrugabuseclevelandtreatmentcenter.org
SUMMARY:Substance Abuse and Recovery
DESCRIPTION:Presenter:\nPastor Sal Perez’s story is an early life of drug addiction\, gang violence and prison. He now ministers via word and song to both youth and adults on the perils of addiction\, violence and incarceration; sharing a message of sustaining recovery and maintaining a healthy/supportive life experience.\n\nJoin Zoom Meeting\nhttps://us02web.zoom.us/j/81970675403?pwd=UXYvWVFMRUNTYjNnRmJKOWpHbWFIUT09\n\nMeeting ID: 819 7067 5403\nPasscode: 436092\n\nOne tap mobile\n+13126266799\,\,81970675403#\,\,\,\,*436092# US (Chicago)\n+16465588656\,\,81970675403#\,\,\,\,*436092# US (New York)
URL:https://bureauofdrugabuseclevelandtreatmentcenter.org/event/substance-abuse-and-recovery/
LOCATION:OH
ATTACH;FMTTYPE=image/jpeg:https://bureauofdrugabuseclevelandtreatmentcenter.org/wp-content/uploads/2022/03/pexels-jill-burrow-6387845.jpg
END:VEVENT
END:VCALENDAR