BEGIN:VCALENDAR
VERSION:2.0
PRODID:-//Bureau of Drug Abuse Cleveland Treatment Center - ECPv5.9.1//NONSGML v1.0//EN
CALSCALE:GREGORIAN
METHOD:PUBLISH
X-WR-CALNAME:Bureau of Drug Abuse Cleveland Treatment Center
X-ORIGINAL-URL:https://bureauofdrugabuseclevelandtreatmentcenter.org
X-WR-CALDESC:Events for Bureau of Drug Abuse Cleveland Treatment Center
BEGIN:VTIMEZONE
TZID:UTC
BEGIN:STANDARD
TZOFFSETFROM:+0000
TZOFFSETTO:+0000
TZNAME:UTC
DTSTART:20220101T000000
END:STANDARD
END:VTIMEZONE
BEGIN:VEVENT
DTSTART;TZID=UTC:20220412T183000
DTEND;TZID=UTC:20220412T193000
DTSTAMP:20260419T201249
CREATED:20220331T153645Z
LAST-MODIFIED:20220331T164808Z
UID:143-1649788200-1649791800@bureauofdrugabuseclevelandtreatmentcenter.org
SUMMARY:Recovery Housing
DESCRIPTION:Presenter:\nAntoinette Moore\, the Administrative Operations Coordinator for the Council on Aging for Southwest Ohio and Candace Robinson\, the Recovery Housing Benefits for the Cleveland Treatment Center will present on requirement for recovery housing\, applying for recovery housing\, and benefits of recovery housing.\n\nJoin Zoom Meeting\nhttps://us02web.zoom.us/j/83182561631?pwd=NnQySHdUeDdyL0ZBSUpQSFF0T201QT09\n\nMeeting ID: 831 8256 1631\nPasscode: 233590\n\nOne tap mobile\n+13126266799\,\,83182561631#\,\,\,\,*233590# US (Chicago)\n+16465588656\,\,83182561631#\,\,\,\,*233590# US (New York)
URL:https://bureauofdrugabuseclevelandtreatmentcenter.org/event/recovery-housing/
LOCATION:OH
ATTACH;FMTTYPE=image/jpeg:https://bureauofdrugabuseclevelandtreatmentcenter.org/wp-content/uploads/2022/03/pexels-alena-darmel-7642218.jpg
END:VEVENT
BEGIN:VEVENT
DTSTART;TZID=UTC:20220405T183000
DTEND;TZID=UTC:20220405T193000
DTSTAMP:20260419T201249
CREATED:20220331T151222Z
LAST-MODIFIED:20220331T164821Z
UID:118-1649183400-1649187000@bureauofdrugabuseclevelandtreatmentcenter.org
SUMMARY:Stress Management and Coping Skills
DESCRIPTION:Presenter:\nOdiri Omobien\, MSSA\, LISW will present on methods to reduce stress\, methods to avoid stress\, and wellness habits. \nJoin Zoom Meeting\nhttps://us02web.zoom.us/j/84855631841?pwd=TGRmYlZ0NE9tUzhjSFg2R2lVK01zdz09 \nMeeting ID: 848 5563 1841\nPasscode: 441293 \nOne tap mobile\n+13126266799\,\,84855631841#\,\,\,\,*441293# US (Chicago)\n+16465588656\,\,84855631841#\,\,\,\,*441293# US (New York)
URL:https://bureauofdrugabuseclevelandtreatmentcenter.org/event/stress-management-and-coping-skills/
LOCATION:OH
ATTACH;FMTTYPE=image/jpeg:https://bureauofdrugabuseclevelandtreatmentcenter.org/wp-content/uploads/2022/03/pexels-yan-krukov-7640490-1.jpg
END:VEVENT
END:VCALENDAR